BEGIN:VCALENDAR
VERSION:2.0
PRODID:-//ChamberMaster//Event Calendar 2.0//EN
METHOD:PUBLISH
X-PUBLISHED-TTL:P3D
REFRESH-INTERVAL:P3D
CALSCALE:GREGORIAN
BEGIN:VEVENT
DTSTART:20210304T050000Z
DTEND:20210331T160000Z
X-MICROSOFT-CDO-ALLDAYEVENT:FALSE
SUMMARY:YMCA Summer Camp
DESCRIPTION:YMCA Day Camp 2021 - Great Summers start here!\n\nRegister online or at the front desk.\n\nhttp://gapiedmontymca.org
X-ALT-DESC;FMTTYPE=text/html:YMCA Day Camp 2021 - Great Summers start here!<br />\nRegister online or at the front desk.<br />\nhttp://gapiedmontymca.org
LOCATION:Bell Family YMCA 281 Opal St. Ext. Hartwell\, GA 30643
UID:e.3301.8142
SEQUENCE:3
DTSTAMP:20260425T104043Z
URL:http://hart-countyga.chambermaster.com/events/details/ymca-summer-camp-8142
END:VEVENT

END:VCALENDAR
