BEGIN:VCALENDAR
VERSION:2.0
PRODID:-//ChamberMaster//Event Calendar 2.0//EN
METHOD:PUBLISH
X-PUBLISHED-TTL:P3D
REFRESH-INTERVAL:P3D
CALSCALE:GREGORIAN
BEGIN:VEVENT
DTSTART:20210710T140000Z
DTEND:20210710T160000Z
X-MICROSOFT-CDO-ALLDAYEVENT:FALSE
SUMMARY:TORCH Dedication
DESCRIPTION:Please join TORCH of Hartwell to celebrate the opening of\n\nRailroad Street Park and Dedication of the Nicki Meyer Marketplace.\n\nSaturday\, July 10\, 2019\n\n10:00am - 12:00pm\n\nTrain Depot\n\nJackson St.\n\nHartwell\, GA 30643
X-ALT-DESC;FMTTYPE=text/html:<div style="text-align: center\;"><span style="font-size:18px\;"><strong>Please join TORCH of Hartwell to celebrate the opening of<br />\nRailroad Street Park and Dedication of the Nicki Meyer Marketplace.</strong></span><br />\n<span style="font-size:14px\;">Saturday\, July 10\, 2019<br />\n10:00am - 12:00pm<br />\nTrain Depot<br />\nJackson St.<br />\nHartwell\, GA 30643</span></div>\n
LOCATION:
UID:e.3301.8202
SEQUENCE:3
DTSTAMP:20260423T091748Z
URL:http://hart-countyga.chambermaster.com/events/details/torch-dedication-8202
END:VEVENT

END:VCALENDAR
