BEGIN:VCALENDAR
VERSION:2.0
PRODID:-//ChamberMaster//Event Calendar 2.0//EN
METHOD:PUBLISH
X-PUBLISHED-TTL:P3D
REFRESH-INTERVAL:P3D
CALSCALE:GREGORIAN
BEGIN:VEVENT
DTSTART;VALUE=DATE:20210608
DTEND;VALUE=DATE:20210609
TRANSP:TRANSPARENT
X-MICROSOFT-CDO-ALLDAYEVENT:TRUE
SUMMARY:Tee Off for CASA
DESCRIPTION:Tee Off For CASA\n\nGolf Tournament fundraiser for Northeast Georgia CASA\n\nJune 8th.\, 2021\n\n9:30am\n\nThe Orchard Golf & Country Club\n\nEntry Deadline: 6/1/21\n\n4 Player Team Registration - $500\n\nIndividual Player Registration - $125\n\nSponsorships Available\n\nMore information online:\n\nhttps://teeoff4casa.eventbite.com\n\n706-886-1098 ext.6
X-ALT-DESC;FMTTYPE=text/html:<div style="text-align: center\;"><span style="font-size:20px\;"><strong>Tee Off For CASA<br />\nGolf Tournament fundraiser for Northeast Georgia CASA</strong></span><br />\nJune 8th.\, 2021<br />\n9:30am<br />\nThe Orchard Golf &amp\; Country Club<br />\nEntry Deadline: 6/1/21<br />\n<span style="text-align: center\;">4 Player Team Registration - $500</span><br style="text-align: center\;" />\n<span style="text-align: center\;">Individual Player Registration - $125</span><br style="text-align: center\;" />\n<span style="text-align: center\;">Sponsorships Available<br />\nMore information online:</span><br style="text-align: center\;" />\n<span style="text-align: center\;">https://teeoff4casa.eventbite.com<br />\n706-886-1098 ext.6</span></div>\n
LOCATION:1057 Orchard Dr. Clarksville\, GA 30523
UID:e.3301.8181
SEQUENCE:3
DTSTAMP:20260424T080828Z
URL:http://hart-countyga.chambermaster.com/events/details/tee-off-for-casa-8181
END:VEVENT

END:VCALENDAR
