BEGIN:VCALENDAR
VERSION:2.0
PRODID:-//ChamberMaster//Event Calendar 2.0//EN
METHOD:PUBLISH
X-PUBLISHED-TTL:P3D
REFRESH-INTERVAL:P3D
CALSCALE:GREGORIAN
BEGIN:VEVENT
DTSTART:20211103T150000Z
DTEND:20211103T160000Z
X-MICROSOFT-CDO-ALLDAYEVENT:FALSE
SUMMARY:Snack & Learn YMCA
DESCRIPTION:Snack & Learn @ the YMCA\n\nLearn about Diabetes and Self-Care Behaviors\n\nLed by: Olivia Woods\, Diabetes Educator\n\n11/3/2021\n\n11:00am - 12:00pm\n\nBell Family YMCA\n\n281 Opal St. Ext.\n\nHartwell\, GA 30643\n\n706-856-9622
X-ALT-DESC;FMTTYPE=text/html:<div style="text-align: center\;"><span style="font-size:18px\;"><strong>Snack &amp\; Learn @ the YMCA</strong></span><br />\nLearn about Diabetes and Self-Care Behaviors<br />\nLed&nbsp\;by: Olivia Woods\, Diabetes Educator<br />\n<strong>11/3/2021<br />\n11:00am - 12:00pm</strong><br />\nBell Family YMCA<br />\n281 Opal St. Ext.<br />\nHartwell\, GA 30643<br />\n706-856-9622</div>\n
LOCATION:
UID:e.3301.8411
SEQUENCE:3
DTSTAMP:20260425T030002Z
URL:http://hart-countyga.chambermaster.com/events/details/snack-learn-ymca-8411
END:VEVENT

END:VCALENDAR
