BEGIN:VCALENDAR
VERSION:2.0
PRODID:-//ChamberMaster//Event Calendar 2.0//EN
METHOD:PUBLISH
X-PUBLISHED-TTL:P3D
REFRESH-INTERVAL:P3D
CALSCALE:GREGORIAN
BEGIN:VEVENT
DTSTART:20220203T220000Z
DTEND:20220204T000000Z
X-MICROSOFT-CDO-ALLDAYEVENT:FALSE
SUMMARY:Privacy & Security Class
DESCRIPTION:Gamden will be holding a Free education class on Electronic Privacy & Security. Learn why Hackers hack\, how your data is compromised\, credit card fraud\, identity protection\, and more. The first 75 minutes are dedicated to the syllabus. The remaining time will be dedicated to Question & Answer. Register Online: bit.ly/Gamden020322
X-ALT-DESC;FMTTYPE=text/html:Gamden will be holding a Free education class on Electronic Privacy &amp\; Security. Learn why Hackers hack\, how your data is compromised\, credit card fraud\, identity protection\, and more. The first 75 minutes are dedicated to the syllabus. The remaining time will be dedicated to Question &amp\; Answer. Register Online: bit.ly/Gamden020322
LOCATION:Hart County Library 150 Benson St - Hartwell
UID:e.3301.8743
SEQUENCE:3
DTSTAMP:20260422T030706Z
URL:http://hart-countyga.chambermaster.com/events/details/privacy-security-class-8743
END:VEVENT

END:VCALENDAR
