BEGIN:VCALENDAR
VERSION:2.0
PRODID:-//ChamberMaster//Event Calendar 2.0//EN
METHOD:PUBLISH
X-PUBLISHED-TTL:P3D
REFRESH-INTERVAL:P3D
CALSCALE:GREGORIAN
BEGIN:VEVENT
DTSTART:20211021T220000Z
DTEND:20211022T020000Z
X-MICROSOFT-CDO-ALLDAYEVENT:FALSE
SUMMARY:Pink Partini
DESCRIPTION:Hartwell Service League is hosting the annual\n\nPINK PARTINI - benefiting the Nancy Hart Foundation.\n\nLocation:  Cateechee\n\n140 Cateechee Trail\; Hartwell\, GA 30643\n\n\n\nTickets are SOLD OUT! \n\n\n\nThis is going to be a great event!
X-ALT-DESC;FMTTYPE=text/html:<div style="text-align: center\;"><span style="font-size:20px\;"><strong>Hartwell Service League is hosting the annual<br />\nPINK PARTINI - benefiting the Nancy Hart Foundation.</strong></span><br />\nLocation:&nbsp\; Cateechee<br />\n140 Cateechee Trail\; Hartwell\, GA 30643<br />\n<br />\nTickets are SOLD OUT!&nbsp\;<br />\n<br />\nThis is going to be a great event!&nbsp\;</div>\n
LOCATION:
UID:e.3301.8239
SEQUENCE:3
DTSTAMP:20260421T220842Z
URL:http://hart-countyga.chambermaster.com/events/details/pink-partini-8239
END:VEVENT

END:VCALENDAR
