BEGIN:VCALENDAR
VERSION:2.0
PRODID:-//ChamberMaster//Event Calendar 2.0//EN
METHOD:PUBLISH
X-PUBLISHED-TTL:P3D
REFRESH-INTERVAL:P3D
CALSCALE:GREGORIAN
BEGIN:VEVENT
DTSTART;VALUE=DATE:20210312
DTEND;VALUE=DATE:20210413
TRANSP:TRANSPARENT
X-MICROSOFT-CDO-ALLDAYEVENT:TRUE
SUMMARY:Paynes Creek Campgound
DESCRIPTION:Now under management of Hart County-Paynes Creek is located on Lake Hartwell & offers camping and boat launching facilities as well as a multi-purposed trail. Existing facilities include 44 public use camp sites with water & electric hookups\, 3 comfort stations (with showers)\, 1 dump station\, 2 boat ramps\, courtesy dock at ramp\, 3 playgrounds\, 2 designated swim area/beaches\, 1- 9 mile multipurpose trail for biking & hiking.
X-ALT-DESC;FMTTYPE=text/html:Now under management of Hart County-Paynes Creek is located on Lake Hartwell &amp\; offers camping and boat launching facilities as well as a multi-purposed trail. Existing facilities include 44 public use camp sites with water &amp\; electric hookups\, 3 comfort stations (with showers)\, 1 dump station\, 2 boat ramps\, courtesy dock at ramp\, 3 playgrounds\, 2 designated swim area/beaches\, 1- 9 mile multipurpose trail for biking &amp\; hiking.
LOCATION:Paynes Creek Campground 518 Ramp Rd. Hartwell\, GA 30643
UID:e.3301.8157
SEQUENCE:3
DTSTAMP:20260424T022134Z
URL:http://hart-countyga.chambermaster.com/events/details/paynes-creek-campgound-8157
END:VEVENT

END:VCALENDAR
