BEGIN:VCALENDAR
VERSION:2.0
PRODID:-//ChamberMaster//Event Calendar 2.0//EN
METHOD:PUBLISH
X-PUBLISHED-TTL:P3D
REFRESH-INTERVAL:P3D
CALSCALE:GREGORIAN
BEGIN:VEVENT
DTSTART:20211015T230000Z
DTEND:20211016T010000Z
X-MICROSOFT-CDO-ALLDAYEVENT:FALSE
SUMMARY:Music @ Common Ground
DESCRIPTION:Music with LH Bluegrass Band\n\nCommon Ground\n\n28 S Carolina St.\n\n Hartwell GA 30643\n\n706-805-5031
X-ALT-DESC;FMTTYPE=text/html:<div style="text-align: center\;"><span style="font-size:14px\;"><strong>Music with LH Bluegrass Band</strong></span><br />\nCommon Ground<br />\n28 S Carolina St.<br />\n&nbsp\;Hartwell GA 30643<br />\n706-805-5031</div>\n
LOCATION:
UID:e.3301.8295
SEQUENCE:3
DTSTAMP:20260421T220841Z
URL:http://hart-countyga.chambermaster.com/events/details/music-common-ground-8295
END:VEVENT

END:VCALENDAR
