BEGIN:VCALENDAR
VERSION:2.0
PRODID:-//ChamberMaster//Event Calendar 2.0//EN
METHOD:PUBLISH
X-PUBLISHED-TTL:P3D
REFRESH-INTERVAL:P3D
CALSCALE:GREGORIAN
BEGIN:VEVENT
DTSTART:20210625T160000Z
DTEND:20210625T170000Z
X-MICROSOFT-CDO-ALLDAYEVENT:FALSE
SUMMARY:Listening Session
DESCRIPTION:Listening Session with Mike MacNab - Hartwell City Council \n\nFriday\, 6/25/21\n\n12:00 Noon\n\nChamber of Commerce Office\n\n10 S. Carolina St.
X-ALT-DESC;FMTTYPE=text/html:<div style="text-align: center\;">Listening Session with Mike MacNab - Hartwell City Council&nbsp\;<br />\nFriday\, 6/25/21<br />\n12:00 Noon<br />\nChamber of Commerce Office<br />\n10 S. Carolina St.</div>\n
LOCATION:
UID:e.3301.8199
SEQUENCE:3
DTSTAMP:20260423T083315Z
URL:http://hart-countyga.chambermaster.com/events/details/listening-session-8199
END:VEVENT

END:VCALENDAR
