BEGIN:VCALENDAR
VERSION:2.0
PRODID:-//ChamberMaster//Event Calendar 2.0//EN
METHOD:PUBLISH
X-PUBLISHED-TTL:P3D
REFRESH-INTERVAL:P3D
CALSCALE:GREGORIAN
BEGIN:VEVENT
DTSTART;VALUE=DATE:20211001
DTEND;VALUE=DATE:20211002
TRANSP:TRANSPARENT
X-MICROSOFT-CDO-ALLDAYEVENT:TRUE
SUMMARY:Hartwell Scarecrow Bash Oct 1st - 31st
DESCRIPTION:The Scarecrows will be returning to Hartwell this October for the ELEVENTH year.  Their numbers keep growing each year and we hope this year will be bigger and better than ever!\n\nScarecrow theme will be centered on "American Patriotism\, Strength and Resiliency."  Participating businesses or families may choose whatever theme they wish as well.\n\n\n\nRegister to participate at:  hartwellmainstreet.com\n\nLink to Registration Packet:\n\nScarecrow Registration Packet\n\n\n\nRegistration packets are also available at the Hart County Chamber of Commerce Office:\n\n10 S. Carolina St.\n\nHartwell\, GA 30643\n\n\n\nScarecrows will be on display around the courthouse lawn and around town for the whole month of October.  You can vote for your favorite using the official ballot in The Hartwell Sun.
X-ALT-DESC;FMTTYPE=text/html:<div style="text-align: center\;"><span style="color:black\;">The Scarecrows will be returning to Hartwell this October for the ELEVENTH year.&nbsp\; Their numbers keep growing each year and we hope this year will be bigger and better than ever!</span></div>\n\n<div style="text-align: center\;"><span style="font-family:garamond\,serif\;"><span style="font-size:12.0pt\;">Scarecrow theme will be centered on &quot\;American Patriotism\, Strength and Resiliency.&quot\;&nbsp\; Participating businesses or families may choose whatever theme they wish as well.</span></span></div>\n\n<div style="text-align: center\;"><br />\n<span style="color:black\;">Register to participate at:&nbsp\;<strong> hartwellmainstreet.com</strong><br />\nLink to Registration Packet:</span><br />\n<a href="https://227fe4db-0598-4bf8-8ee9-e3c9ab29fcb2.filesusr.com/ugd/b72345_9602a9eaf7a2442caf2766be595506af.pdf">Scarecrow Registration Packet</a><br />\n<br />\nRegistration packets are also available at the Hart County Chamber of Commerce Office:<br />\n10 S. Carolina St.<br />\nHartwell\, GA 30643<br />\n<br />\n<span style="color:#000000\;">Scarecrows will be on display around the courthouse lawn and around town for the whole month of October.&nbsp\; You can vote for your favorite using the official ballot in The Hartwell Sun.&nbsp\;&nbsp\;</span></div>\n
LOCATION:Downtown Square
UID:e.3301.8151
SEQUENCE:3
DTSTAMP:20260425T000709Z
URL:http://hart-countyga.chambermaster.com/events/details/hartwell-scarecrow-bash-oct-1st-31st-8151
END:VEVENT

END:VCALENDAR
