BEGIN:VCALENDAR
VERSION:2.0
PRODID:-//ChamberMaster//Event Calendar 2.0//EN
METHOD:PUBLISH
X-PUBLISHED-TTL:P3D
REFRESH-INTERVAL:P3D
CALSCALE:GREGORIAN
BEGIN:VEVENT
DTSTART:20210920T230000Z
DTEND:20210921T010000Z
X-MICROSOFT-CDO-ALLDAYEVENT:FALSE
SUMMARY:Hart Life Benefit Celebration
DESCRIPTION:Hart Life Pregnancy Care Center presents:\n\nCELEBRATION\n\n35th. Anniversary Hart Life Benefit\n\n7:00pm\n\nRSVP by 9/10/21\n\n\n\nJoin us for our fundraiser celebration.  This year is special because it is Hart Life's 35th. Anniversary!\n\nCome ready for an incredible evening of worship music and to hear amzing speakers who will be sharing their powerful life stories:\n\nTasha Fiedler - Joel Goddard & Bethlehem Worship - Sara Bible\n\n\n\nFor More Information:  www.hartlife.net \n\nCall: 706-376-1700
X-ALT-DESC;FMTTYPE=text/html:<div style="text-align: center\;">Hart Life Pregnancy Care Center presents:<br />\nCELEBRATION<br />\n35th. Anniversary Hart Life Benefit<br />\n7:00pm<br />\nRSVP by 9/10/21<br />\n<br />\nJoin us for our fundraiser celebration.&nbsp\; This year is special because it is Hart Life&#39\;s 35th. Anniversary!<br />\nCome ready for an incredible evening of worship music and to hear amzing speakers who will be sharing their powerful life stories:<br />\nTasha Fiedler - Joel Goddard &amp\; Bethlehem Worship - Sara Bible<br />\n<br />\nFor More Information:&nbsp\; www.hartlife.net&nbsp\;<br />\nCall: 706-376-1700</div>\n
LOCATION:Lonnie Burns Fine Arts Center Hart County High School 59 Fifth St. Hartwell\, GA 30643
UID:e.3301.8251
SEQUENCE:3
DTSTAMP:20260421T135525Z
URL:http://hart-countyga.chambermaster.com/events/details/hart-life-benefit-celebration-8251
END:VEVENT

END:VCALENDAR
