BEGIN:VCALENDAR
VERSION:2.0
PRODID:-//ChamberMaster//Event Calendar 2.0//EN
METHOD:PUBLISH
X-PUBLISHED-TTL:P3D
REFRESH-INTERVAL:P3D
CALSCALE:GREGORIAN
BEGIN:VEVENT
DTSTART:20221003T213000Z
DTEND:20221003T230000Z
X-MICROSOFT-CDO-ALLDAYEVENT:FALSE
SUMMARY:Hart Community Chorus
DESCRIPTION:Bring a copy of Carol of the Bells if you have one!
X-ALT-DESC;FMTTYPE=text/html:Bring a copy of Carol of the Bells if you have one!
LOCATION:Hartwell Art Center
UID:e.3301.10453
SEQUENCE:3
DTSTAMP:20260419T165815Z
URL:http://hart-countyga.chambermaster.com/events/details/hart-community-chorus-10453
END:VEVENT

END:VCALENDAR
