BEGIN:VCALENDAR
VERSION:2.0
PRODID:-//ChamberMaster//Event Calendar 2.0//EN
METHOD:PUBLISH
X-PUBLISHED-TTL:P3D
REFRESH-INTERVAL:P3D
CALSCALE:GREGORIAN
BEGIN:VEVENT
DTSTART:20220301T133000Z
DTEND:20220301T150000Z
X-MICROSOFT-CDO-ALLDAYEVENT:FALSE
SUMMARY:Gamden Think Tank
DESCRIPTION:Meet Your New Board of Directors!\n\nEnjoy a roundtable discussion with fellow entrepreneurs as we all discuss our ideas\, issues\, and solutions affecting us.\n\nHow It Works:\n\nA moderator is there to provide you with approximately 7 minutes of an open floor to the rest of the attendees. You use the time to talk about your company and what you do. Then\, present a problem or idea you are currently having and what has been attempted to resolve it. At that point\, sit and listen to other entrepreneurs as they provide you with specific insight into your problem and how they may have dealt with the same or similar issue before.\n\nThe last 30 minutes is set aside for mingling and open discussion with other people in the group.\n\n\n\nRegister Here: https://bit.ly/ThinkTank2022
X-ALT-DESC;FMTTYPE=text/html:<div>Meet Your New Board of Directors!</div>\n\n<div>Enjoy a roundtable discussion with fellow entrepreneurs as we all discuss our ideas\, issues\, and solutions affecting us.</div>\n\n<div>How It Works:<br />\nA moderator is there to provide you with approximately 7 minutes of an open floor to the rest of the attendees. You use the time to talk about your company and what you do. Then\, present a problem or idea you are currently having and what has been attempted to resolve it. At that point\, sit and listen to other entrepreneurs as they provide you with specific insight into your problem and how they may have dealt with the same or similar issue before.</div>\n\n<div>The last 30 minutes is set aside for mingling and open discussion with other people in the group.</div>\n\n<div><br />\nRegister Here: https://bit.ly/ThinkTank2022</div>\n
LOCATION:Coffee Underground - 28 Carolina St.\, Hartwell\, GA 30643
UID:e.3301.8939
SEQUENCE:3
DTSTAMP:20260422T175627Z
URL:http://hart-countyga.chambermaster.com/events/details/gamden-think-tank-8939
END:VEVENT

END:VCALENDAR
