BEGIN:VCALENDAR
VERSION:2.0
PRODID:-//ChamberMaster//Event Calendar 2.0//EN
METHOD:PUBLISH
X-PUBLISHED-TTL:P3D
REFRESH-INTERVAL:P3D
CALSCALE:GREGORIAN
BEGIN:VEVENT
DTSTART:20210913T200000Z
DTEND:20210913T210000Z
X-MICROSOFT-CDO-ALLDAYEVENT:FALSE
SUMMARY:Executive Board Meeting
DESCRIPTION:Executive Board Meeting \n\nMondays @ 4:00pm\n\nMeeting prior to 3rd. Thursday Board Meeting\n\nLocation: TBD
X-ALT-DESC;FMTTYPE=text/html:Executive Board Meeting&nbsp\;<br />\nMondays @ 4:00pm<br />\nMeeting prior to 3rd. Thursday Board Meeting<br />\nLocation: TBD<br />\n&nbsp\;
LOCATION:
UID:e.3301.8272
SEQUENCE:3
DTSTAMP:20260421T111958Z
URL:http://hart-countyga.chambermaster.com/events/details/executive-board-meeting-8272
END:VEVENT

END:VCALENDAR
