BEGIN:VCALENDAR
VERSION:2.0
PRODID:-//ChamberMaster//Event Calendar 2.0//EN
METHOD:PUBLISH
X-PUBLISHED-TTL:P3D
REFRESH-INTERVAL:P3D
CALSCALE:GREGORIAN
BEGIN:VEVENT
DTSTART;VALUE=DATE:20211001
DTEND;VALUE=DATE:20211002
TRANSP:TRANSPARENT
X-MICROSOFT-CDO-ALLDAYEVENT:TRUE
SUMMARY:Elbert Memorial Golf Classic
DESCRIPTION:Join us for Elbert Memorial Hospital Foundation's 16th Annual\n\nJimmy Johnson Memorial Golf Classic on Friday\, Oct. 1 at Arrowhead Pointe Golf Course.\n\nWe are also having our Second Annual Golf Ball Drop with a Grand Prize of $500!\n\nFor more details\, please call the Foundation Office\n\nat 706-223-2558.
X-ALT-DESC;FMTTYPE=text/html:<div style="text-align: center\;"><strong><span font-size:="" segoe="" style="color: rgb(5\, 5\, 5)\; font-family: " ui="">Join us for Elbert Memorial Hospital Foundation&rsquo\;s 16th Annual</span><br font-size:="" segoe="" style="color: rgb(5\, 5\, 5)\; font-family: " ui="" />\n<span font-size:="" segoe="" style="color: rgb(5\, 5\, 5)\; font-family: " ui="">Jimmy Johnson Memorial Golf Classic on Friday\, Oct. 1 at Arrowhead Pointe Golf Course.</span></strong><br font-size:="" segoe="" style="color: rgb(5\, 5\, 5)\; font-family: " ui="" />\n<span font-size:="" segoe="" style="color: rgb(5\, 5\, 5)\; font-family: " ui="">We are also having our Second Annual Golf Ball Drop with a Grand Prize of $500!</span><br font-size:="" segoe="" style="color: rgb(5\, 5\, 5)\; font-family: " ui="" />\n<span font-size:="" segoe="" style="color: rgb(5\, 5\, 5)\; font-family: " ui="">For more details\, please call the Foundation Office</span><br font-size:="" segoe="" style="color: rgb(5\, 5\, 5)\; font-family: " ui="" />\n<span font-size:="" segoe="" style="color: rgb(5\, 5\, 5)\; font-family: " ui="">at 706-223-2558.</span></div>\n
LOCATION:
UID:e.3301.8285
SEQUENCE:3
DTSTAMP:20260424T235436Z
URL:http://hart-countyga.chambermaster.com/events/details/elbert-memorial-golf-classic-8285
END:VEVENT

END:VCALENDAR
