BEGIN:VCALENDAR
VERSION:2.0
PRODID:-//ChamberMaster//Event Calendar 2.0//EN
METHOD:PUBLISH
X-PUBLISHED-TTL:P3D
REFRESH-INTERVAL:P3D
CALSCALE:GREGORIAN
BEGIN:VEVENT
DTSTART;VALUE=DATE:20210403
DTEND;VALUE=DATE:20210404
TRANSP:TRANSPARENT
X-MICROSOFT-CDO-ALLDAYEVENT:TRUE
SUMMARY:Easter Mainstreet Style
DESCRIPTION:EASTER MAINSTREET STYLE\n\nCrafts\, Treats and Specials\n\nApril 3\, 2021\n\nCommon Ground - Easter Crafts on the Patio\n\nEmpire South - Hidden Easter Eggs\n\nGlow Up Tanning - Easter Goodie Bags\n\nSouth Forest Station - Photos w/ Easter Bunny\n\nSouthern Hart - Easter Egg Coloring
X-ALT-DESC;FMTTYPE=text/html:<h3 style="text-align: center\;"><span style="font-family:arial\;"><strong>EASTER MAINSTREET STYLE<br />\nCrafts\, Treats and Specials<br />\nApril 3\, 2021</strong></span></h3>\n\n<h4 style="text-align: center\;"><span style="font-family:arial\;"><em><strong>Common Ground</strong> - Easter Crafts on the Patio<br />\n<strong>Empire South</strong> - Hidden Easter Eggs<br />\n<strong>Glow Up Tanning</strong> - Easter Goodie Bags<br />\n<strong>South Forest Station</strong> - Photos w/ Easter Bunny<br />\n<strong>Southern Hart</strong> - Easter Egg Coloring</em></span></h4>\n\n<h3 style="text-align: center\;"><br />\n&nbsp\;</h3>\n
LOCATION:Downtown Hartwell
UID:e.3301.8167
SEQUENCE:3
DTSTAMP:20260424T022134Z
URL:http://hart-countyga.chambermaster.com/events/details/easter-mainstreet-style-8167
END:VEVENT

END:VCALENDAR
