BEGIN:VCALENDAR
VERSION:2.0
PRODID:-//ChamberMaster//Event Calendar 2.0//EN
METHOD:PUBLISH
X-PUBLISHED-TTL:P3D
REFRESH-INTERVAL:P3D
CALSCALE:GREGORIAN
BEGIN:VEVENT
DTSTART:20230215T150000Z
DTEND:20230215T160000Z
X-MICROSOFT-CDO-ALLDAYEVENT:FALSE
SUMMARY:Community Development Meeting
DESCRIPTION:Join us for our monthly Community Development Meeting\n\n\n\nWhen: Every third Wednesday of the month\n\n\n\nTime: 10:00 a.m.\n\n\n\nWhere: Southern Hart Brewing Co.
X-ALT-DESC;FMTTYPE=text/html:<div style="text-align: center\;">Join us for our monthly Community Development Meeting<br />\n<br />\n<strong>When</strong>: Every third Wednesday&nbsp\;of the month<br />\n<br />\n<strong>Time</strong>: 10:00 a.m.<br />\n<br />\n<strong>Where</strong>: Southern Hart Brewing Co.</div>\n
LOCATION:Southern Hart Brewing Co. 350 E. Howell St. Hartwell GA 30643
UID:e.3301.12291
SEQUENCE:3
DTSTAMP:20260423T233135Z
URL:http://hart-countyga.chambermaster.com/events/details/community-development-meeting-12291
END:VEVENT

END:VCALENDAR
