BEGIN:VCALENDAR
VERSION:2.0
PRODID:-//ChamberMaster//Event Calendar 2.0//EN
METHOD:PUBLISH
X-PUBLISHED-TTL:P3D
REFRESH-INTERVAL:P3D
CALSCALE:GREGORIAN
BEGIN:VEVENT
DTSTART:20211027T220000Z
DTEND:20211028T000000Z
X-MICROSOFT-CDO-ALLDAYEVENT:FALSE
SUMMARY:Boo Bash
DESCRIPTION:Boo Bash.  Join us for a fun fillled night with games\, rides\, prizes\, food and more.
X-ALT-DESC;FMTTYPE=text/html:Boo Bash.&nbsp\; Join us for a fun fillled night with games\, rides\, prizes\, food and more.&nbsp\;&nbsp\;
LOCATION:Hartwell First United Methodist Church 200 E. Howell St. Hartwell\, GA Church Parkling Lot
UID:e.3301.8355
SEQUENCE:3
DTSTAMP:20260424T125416Z
URL:http://hart-countyga.chambermaster.com/events/details/boo-bash-8355
END:VEVENT

END:VCALENDAR
