BEGIN:VCALENDAR
VERSION:2.0
PRODID:-//ChamberMaster//Event Calendar 2.0//EN
METHOD:PUBLISH
X-PUBLISHED-TTL:P3D
REFRESH-INTERVAL:P3D
CALSCALE:GREGORIAN
BEGIN:VEVENT
DTSTART:20210608T213000Z
DTEND:20210608T230000Z
X-MICROSOFT-CDO-ALLDAYEVENT:FALSE
SUMMARY:After-Hours Networking @ Sublime Ax Throwing
DESCRIPTION:Join us for a fun Chamber after-hours networking event!  Food & drinks\, 50/50 raffle\, and door prizes!  Hosted by Sublime Ax Throwing.   Bring your business cards\, your co-workers\, and friends!  If you have promotional items you would like to donate to the door prizes\, bring them with you.
X-ALT-DESC;FMTTYPE=text/html:Join us for a fun Chamber after-hours networking event!&nbsp\; Food &amp\; drinks\, 50/50 raffle\, and door prizes!&nbsp\; Hosted by Sublime Ax Throwing.&nbsp\; &nbsp\;Bring your business cards\, your co-workers\, and friends!&nbsp\; If you have promotional items you would like to donate to the door prizes\, bring them with you.<br />\n<br />\n<br />\n<br />\n&nbsp\;
LOCATION:358 E. Howell St. Hartwell\, Ga
UID:e.3301.7907
SEQUENCE:3
DTSTAMP:20260424T091955Z
URL:http://hart-countyga.chambermaster.com/events/details/after-hours-networking-sublime-ax-throwing-7907
END:VEVENT

END:VCALENDAR
