BEGIN:VCALENDAR
VERSION:2.0
PRODID:-//ChamberMaster//Event Calendar 2.0//EN
METHOD:PUBLISH
X-PUBLISHED-TTL:P3D
REFRESH-INTERVAL:P3D
CALSCALE:GREGORIAN
BEGIN:VEVENT
DTSTART:20220201T223000Z
DTEND:20220202T000000Z
X-MICROSOFT-CDO-ALLDAYEVENT:FALSE
SUMMARY:After Hours Networking Event
DESCRIPTION:After Hours Business Networking Event\n\nhosted by\n\nNo Greater Joy Events\n\nFood & drinks\, 50/50 raffle\, and door prizes! Bring your business cards\, your co-workers\, and friends!  If you have promotional items you would like to donate to the door prizes\, bring them with you.\n\n5:30pm - 7:00pm\n\n\n\nNo Greater Joy Events\n\n611 W. Howell St.\n\nHartwell
X-ALT-DESC;FMTTYPE=text/html:<div style="text-align: center\;">After Hours Business Networking Event<br />\nhosted by<br />\n<span style="font-size:20px\;"><strong>No Greater Joy Events</strong></span><br />\nFood &amp\; drinks\, 50/50 raffle\, and door prizes! Bring your business cards\, your co-workers\, and friends!&nbsp\; If you have promotional items you would like to donate to the door prizes\, bring them with you.<br />\n5:30pm - 7:00pm<br />\n<br />\nNo Greater Joy Events<br />\n611 W. Howell St.<br />\nHartwell</div>\n
LOCATION:No Greater Joy Events 611 W. Howell St. Hartwell
UID:e.3301.8486
SEQUENCE:3
DTSTAMP:20260421T200840Z
URL:http://hart-countyga.chambermaster.com/events/details/after-hours-networking-event-8486
END:VEVENT

END:VCALENDAR
