BEGIN:VCALENDAR
VERSION:2.0
PRODID:-//ChamberMaster//Event Calendar 2.0//EN
METHOD:PUBLISH
X-PUBLISHED-TTL:P3D
REFRESH-INTERVAL:P3D
CALSCALE:GREGORIAN
BEGIN:VEVENT
DTSTART:20210713T213000Z
DTEND:20210713T230000Z
X-MICROSOFT-CDO-ALLDAYEVENT:FALSE
SUMMARY:After-Hours Networking @ Common Ground
DESCRIPTION:Join us for a fun Chamber after-hours networking event! \n\nFood & drinks\, 50/50 raffle\, and door prizes\, hosted at Common Ground Hartwell.   Bring your business cards\, your co-workers\, and friends.  If you have promotional items you would like to donate to the door prizes\, bring them with you.\n\nTuesday\, July 13\, 2021\n\n5:30-7:00pm\n\n28 S. Carolina St.\n\nHartwell\, GA 30643
X-ALT-DESC;FMTTYPE=text/html:<div style="text-align: center\;"><span style="font-size:16px\;">Join us for a fun Chamber after-hours networking event!&nbsp\;<br />\nFood &amp\; drinks\, 50/50 raffle\, and door prizes\, hosted at Common Ground Hartwell.&nbsp\; &nbsp\;Bring your business cards\, your co-workers\, and friends.&nbsp\; If you have promotional items you would like to donate to the door prizes\, bring them with you.</span><br />\n<strong><span style="font-size:18px\;"><span style="text-align: center\;">Tuesday\, July 13\, 2021</span></span><br style="text-align: center\;" />\n<span style="text-align: center\;"><span style="font-size:18px\;">5:30-7:00pm</span><br />\n<span style="font-size:18px\;">28 S. Carolina St.</span></span></strong><br style="text-align: center\;" />\n<span style="text-align: center\;"><span style="font-size:18px\;"><strong>Hartwell\, GA 30643</strong></span></span><br />\n&nbsp\;</div>\n
LOCATION:
UID:e.3301.8135
SEQUENCE:3
DTSTAMP:20260422T020047Z
URL:http://hart-countyga.chambermaster.com/events/details/after-hours-networking-common-ground-8135
END:VEVENT

END:VCALENDAR
